BEGIN:VCALENDAR
VERSION:2.0
PRODID:-//Summer Village of Horseshoe Bay - ECPv6.15.20//NONSGML v1.0//EN
CALSCALE:GREGORIAN
METHOD:PUBLISH
X-WR-CALNAME:Summer Village of Horseshoe Bay
X-ORIGINAL-URL:https://svhorseshoebay.com
X-WR-CALDESC:Events for Summer Village of Horseshoe Bay
REFRESH-INTERVAL;VALUE=DURATION:PT1H
X-Robots-Tag:noindex
X-PUBLISHED-TTL:PT1H
BEGIN:VTIMEZONE
TZID:UTC
BEGIN:STANDARD
TZOFFSETFROM:+0000
TZOFFSETTO:+0000
TZNAME:UTC
DTSTART:20240101T000000
END:STANDARD
END:VTIMEZONE
BEGIN:VEVENT
DTSTART;TZID=UTC:20250510T100000
DTEND;TZID=UTC:20250510T100000
DTSTAMP:20260422T102625
CREATED:20250307T185342Z
LAST-MODIFIED:20250321T145900Z
UID:1512-1746871200-1746871200@svhorseshoebay.com
SUMMARY:Council Meeting
DESCRIPTION:Council Meeting: Saturday May 10 @ 10 AM (Zoom Meeting)
URL:https://svhorseshoebay.com/event/council-meeting-2/
LOCATION:Zoom Meeting
CATEGORIES:Council Meeting
END:VEVENT
END:VCALENDAR